Package: TCGAbiolinks Version: 2.39.0 Command: /home/rapidbuild/bbs-3.22-bioc-rapid/R/bin/R CMD INSTALL TCGAbiolinks StartedAt: 2025-10-30 12:20:03 -0400 (Thu, 30 Oct 2025) EndedAt: 2025-10-30 12:20:36 -0400 (Thu, 30 Oct 2025) EllapsedTime: 33.3 seconds RetCode: 0 Status: OK