Package: TCGAbiolinks Version: 2.39.0 Command: /home/rapidbuild/bbs-3.22-bioc-rapid/R/bin/R CMD build --keep-empty-dirs --no-resave-data TCGAbiolinks StartedAt: 2025-10-30 13:08:36 -0400 (Thu, 30 Oct 2025) EndedAt: 2025-10-30 13:13:06 -0400 (Thu, 30 Oct 2025) EllapsedTime: 270.2 seconds RetCode: 1 Status: ERROR PackageFile: None PackageFileSize: NA