Package: SparseArray Version: 1.11.0 Command: /home/rapidbuild/bbs-3.22-bioc-rapid/R/bin/R CMD INSTALL SparseArray StartedAt: 2025-10-30 12:12:28 -0400 (Thu, 30 Oct 2025) EndedAt: 2025-10-30 12:12:54 -0400 (Thu, 30 Oct 2025) EllapsedTime: 25.5 seconds RetCode: 0 Status: OK