Package: ScaledMatrix Version: 1.19.0 Command: /home/rapidbuild/bbs-3.22-bioc-rapid/R/bin/R CMD INSTALL ScaledMatrix StartedAt: 2025-10-30 12:13:48 -0400 (Thu, 30 Oct 2025) EndedAt: 2025-10-30 12:14:02 -0400 (Thu, 30 Oct 2025) EllapsedTime: 14.4 seconds RetCode: 0 Status: OK