Package: ScaledMatrix Version: 1.19.0 Command: /home/rapidbuild/bbs-3.22-bioc-rapid/R/bin/R CMD build --keep-empty-dirs --no-resave-data ScaledMatrix StartedAt: 2025-10-30 13:02:29 -0400 (Thu, 30 Oct 2025) EndedAt: 2025-10-30 13:04:24 -0400 (Thu, 30 Oct 2025) EllapsedTime: 114.9 seconds RetCode: 0 Status: OK PackageFile: ScaledMatrix_1.19.0.tar.gz PackageFileSize: 306.4 KiB