Package: Rhtslib Version: 3.7.0 Command: /home/rapidbuild/bbs-3.22-bioc-rapid/R/bin/R CMD build --keep-empty-dirs --no-resave-data Rhtslib StartedAt: 2025-10-30 12:59:07 -0400 (Thu, 30 Oct 2025) EndedAt: 2025-10-30 13:00:15 -0400 (Thu, 30 Oct 2025) EllapsedTime: 68.2 seconds RetCode: 0 Status: OK PackageFile: Rhtslib_3.7.0.tar.gz PackageFileSize: 4.91 MiB