Package: Rhdf5lib Version: 1.33.0 Command: /home/rapidbuild/bbs-3.22-bioc-rapid/R/bin/R CMD build --keep-empty-dirs --no-resave-data Rhdf5lib StartedAt: 2025-10-30 12:58:53 -0400 (Thu, 30 Oct 2025) EndedAt: 2025-10-30 13:01:52 -0400 (Thu, 30 Oct 2025) EllapsedTime: 179.5 seconds RetCode: 0 Status: OK PackageFile: Rhdf5lib_1.33.0.tar.gz PackageFileSize: 11.5 MiB