Package: Rgraphviz Version: 2.55.0 Command: /home/rapidbuild/bbs-3.22-bioc-rapid/R/bin/R CMD build --keep-empty-dirs --no-resave-data Rgraphviz StartedAt: 2025-10-30 12:57:48 -0400 (Thu, 30 Oct 2025) EndedAt: 2025-10-30 12:59:07 -0400 (Thu, 30 Oct 2025) EllapsedTime: 78.9 seconds RetCode: 0 Status: OK PackageFile: Rgraphviz_2.55.0.tar.gz PackageFileSize: 7.31 MiB