Package: ResidualMatrix Version: 1.21.0 Command: /home/rapidbuild/bbs-3.22-bioc-rapid/R/bin/R CMD build --keep-empty-dirs --no-resave-data ResidualMatrix StartedAt: 2025-10-30 12:57:29 -0400 (Thu, 30 Oct 2025) EndedAt: 2025-10-30 12:58:04 -0400 (Thu, 30 Oct 2025) EllapsedTime: 34.3 seconds RetCode: 0 Status: OK PackageFile: ResidualMatrix_1.21.0.tar.gz PackageFileSize: 379.3 KiB