Package: RProtoBufLib Version: 2.23.0 Command: /home/rapidbuild/bbs-3.22-bioc-rapid/R/bin/R CMD INSTALL RProtoBufLib StartedAt: 2025-10-30 12:04:18 -0400 (Thu, 30 Oct 2025) EndedAt: 2025-10-30 12:07:57 -0400 (Thu, 30 Oct 2025) EllapsedTime: 219.6 seconds RetCode: 0 Status: OK