Package: RProtoBufLib Version: 2.23.0 Command: /home/rapidbuild/bbs-3.22-bioc-rapid/R/bin/R CMD build --keep-empty-dirs --no-resave-data RProtoBufLib StartedAt: 2025-10-30 13:00:03 -0400 (Thu, 30 Oct 2025) EndedAt: 2025-10-30 13:03:50 -0400 (Thu, 30 Oct 2025) EllapsedTime: 226.8 seconds RetCode: 0 Status: OK PackageFile: RProtoBufLib_2.23.0.tar.gz PackageFileSize: 2.84 MiB