Package: ProtGenerics Version: 1.43.0 Command: /home/rapidbuild/bbs-3.22-bioc-rapid/R/bin/R CMD INSTALL ProtGenerics StartedAt: 2025-10-30 12:11:02 -0400 (Thu, 30 Oct 2025) EndedAt: 2025-10-30 12:11:04 -0400 (Thu, 30 Oct 2025) EllapsedTime: 2.0 seconds RetCode: 0 Status: OK