Package: MultiAssayExperiment Version: 1.37.0 Command: /home/rapidbuild/bbs-3.22-bioc-rapid/R/bin/R CMD build --keep-empty-dirs --no-resave-data MultiAssayExperiment StartedAt: 2025-10-30 12:51:11 -0400 (Thu, 30 Oct 2025) EndedAt: 2025-10-30 12:51:56 -0400 (Thu, 30 Oct 2025) EllapsedTime: 45.0 seconds RetCode: 0 Status: OK PackageFile: MultiAssayExperiment_1.37.0.tar.gz PackageFileSize: 1.319 MiB