Package: MultiAssayExperiment Version: 1.37.0 Maintainer: Marcel Ramos MaintainerEmail: marcel.ramos at sph.cuny.edu git_url: https://git.bioconductor.org/packages/MultiAssayExperiment git_branch: devel git_last_commit: bcc9a96 git_last_commit_date: 2025-10-29 10:31:09 -0400 (Wed, 29 Oct 2025)