Package: MassSpecWavelet Version: 1.77.0 Command: /home/rapidbuild/bbs-3.22-bioc-rapid/R/bin/R CMD INSTALL MassSpecWavelet StartedAt: 2025-10-30 12:04:20 -0400 (Thu, 30 Oct 2025) EndedAt: 2025-10-30 12:04:22 -0400 (Thu, 30 Oct 2025) EllapsedTime: 2.0 seconds RetCode: 0 Status: OK