Package: MassSpecWavelet Version: 1.77.0 Command: /home/rapidbuild/bbs-3.22-bioc-rapid/R/bin/R CMD build --keep-empty-dirs --no-resave-data MassSpecWavelet StartedAt: 2025-10-30 12:47:59 -0400 (Thu, 30 Oct 2025) EndedAt: 2025-10-30 12:48:36 -0400 (Thu, 30 Oct 2025) EllapsedTime: 36.6 seconds RetCode: 0 Status: OK PackageFile: MassSpecWavelet_1.77.0.tar.gz PackageFileSize: 2.171 MiB