Package: MLInterfaces Version: 1.91.0 Command: /home/rapidbuild/bbs-3.22-bioc-rapid/R/bin/R CMD INSTALL MLInterfaces StartedAt: 2025-10-30 12:19:37 -0400 (Thu, 30 Oct 2025) EndedAt: 2025-10-30 12:20:00 -0400 (Thu, 30 Oct 2025) EllapsedTime: 23.5 seconds RetCode: 0 Status: OK