Package: MLInterfaces Version: 1.91.0 Command: /home/rapidbuild/bbs-3.22-bioc-rapid/R/bin/R CMD build --keep-empty-dirs --no-resave-data MLInterfaces StartedAt: 2025-10-30 12:49:20 -0400 (Thu, 30 Oct 2025) EndedAt: 2025-10-30 12:50:05 -0400 (Thu, 30 Oct 2025) EllapsedTime: 45.6 seconds RetCode: 0 Status: OK PackageFile: MLInterfaces_1.91.0.tar.gz PackageFileSize: 2.799 MiB