Package: HDF5Array Version: 1.39.0 Command: /home/rapidbuild/bbs-3.22-bioc-rapid/R/bin/R CMD INSTALL HDF5Array StartedAt: 2025-10-30 12:14:38 -0400 (Thu, 30 Oct 2025) EndedAt: 2025-10-30 12:14:55 -0400 (Thu, 30 Oct 2025) EllapsedTime: 17.6 seconds RetCode: 0 Status: OK