Package: HDF5Array Version: 1.39.0 Command: /home/rapidbuild/bbs-3.22-bioc-rapid/R/bin/R CMD build --keep-empty-dirs --no-resave-data HDF5Array StartedAt: 2025-10-30 12:44:47 -0400 (Thu, 30 Oct 2025) EndedAt: 2025-10-30 12:45:09 -0400 (Thu, 30 Oct 2025) EllapsedTime: 22.0 seconds RetCode: 1 Status: ERROR PackageFile: None PackageFileSize: NA