############################################################################## ############################################################################## ### ### Running command: ### ### /home/rapidbuild/bbs-3.22-bioc-rapid/R/bin/R CMD build --keep-empty-dirs --no-resave-data GenomicAlignments ### ############################################################################## ############################################################################## * checking for file ‘GenomicAlignments/DESCRIPTION’ ... OK * preparing ‘GenomicAlignments’: * checking DESCRIPTION meta-information ... OK * cleaning src * installing the package to build vignettes ----------------------------------- ERROR: dependency ‘cigarillo’ is not available for package ‘GenomicAlignments’ Perhaps try a variation of: install.packages('cigarillo') * removing ‘/tmp/Rtmp32qWGc/Rinst1f99e8df959c5/GenomicAlignments’ ----------------------------------- ERROR: package installation failed