Package: GOSemSim Version: 2.37.0 Command: /home/rapidbuild/bbs-3.22-bioc-rapid/R/bin/R CMD INSTALL GOSemSim StartedAt: 2025-10-30 12:14:10 -0400 (Thu, 30 Oct 2025) EndedAt: 2025-10-30 12:14:28 -0400 (Thu, 30 Oct 2025) EllapsedTime: 17.4 seconds RetCode: 0 Status: OK