Package: GOSemSim Version: 2.37.0 Command: /home/rapidbuild/bbs-3.22-bioc-rapid/R/bin/R CMD build --keep-empty-dirs --no-resave-data GOSemSim StartedAt: 2025-10-30 12:43:47 -0400 (Thu, 30 Oct 2025) EndedAt: 2025-10-30 12:44:06 -0400 (Thu, 30 Oct 2025) EllapsedTime: 19.0 seconds RetCode: 0 Status: OK PackageFile: GOSemSim_2.37.0.tar.gz PackageFileSize: 594.9 KiB