Package: EBarrays Version: 2.75.0 Command: /home/rapidbuild/bbs-3.22-bioc-rapid/R/bin/R CMD build --keep-empty-dirs --no-resave-data EBarrays StartedAt: 2025-10-30 12:34:21 -0400 (Thu, 30 Oct 2025) EndedAt: 2025-10-30 12:34:34 -0400 (Thu, 30 Oct 2025) EllapsedTime: 13.0 seconds RetCode: 0 Status: OK PackageFile: EBarrays_2.75.0.tar.gz PackageFileSize: 1.039 MiB