Package: DynDoc Version: 1.89.0 Command: /home/rapidbuild/bbs-3.22-bioc-rapid/R/bin/R CMD INSTALL DynDoc StartedAt: 2025-10-30 12:08:18 -0400 (Thu, 30 Oct 2025) EndedAt: 2025-10-30 12:08:20 -0400 (Thu, 30 Oct 2025) EllapsedTime: 2.2 seconds RetCode: 0 Status: OK