Package: DynDoc Version: 1.89.0 Command: /home/rapidbuild/bbs-3.22-bioc-rapid/R/bin/R CMD build --keep-empty-dirs --no-resave-data DynDoc StartedAt: 2025-10-30 12:34:20 -0400 (Thu, 30 Oct 2025) EndedAt: 2025-10-30 12:34:21 -0400 (Thu, 30 Oct 2025) EllapsedTime: 1.0 seconds RetCode: 0 Status: OK PackageFile: DynDoc_1.89.0.tar.gz PackageFileSize: 10.96 KiB