Package: DirichletMultinomial Version: 1.53.0 Command: /home/rapidbuild/bbs-3.22-bioc-rapid/R/bin/R CMD build --keep-empty-dirs --no-resave-data DirichletMultinomial StartedAt: 2025-10-30 12:33:33 -0400 (Thu, 30 Oct 2025) EndedAt: 2025-10-30 12:33:45 -0400 (Thu, 30 Oct 2025) EllapsedTime: 12.0 seconds RetCode: 0 Status: OK PackageFile: DirichletMultinomial_1.53.0.tar.gz PackageFileSize: 1.06 MiB