Package: DelayedMatrixStats Version: 1.33.0 Command: /home/rapidbuild/bbs-3.22-bioc-rapid/R/bin/R CMD INSTALL DelayedMatrixStats StartedAt: 2025-10-30 12:13:19 -0400 (Thu, 30 Oct 2025) EndedAt: 2025-10-30 12:13:35 -0400 (Thu, 30 Oct 2025) EllapsedTime: 16.2 seconds RetCode: 0 Status: OK