Package: DelayedMatrixStats Version: 1.33.0 Command: /home/rapidbuild/bbs-3.22-bioc-rapid/R/bin/R CMD build --keep-empty-dirs --no-resave-data DelayedMatrixStats StartedAt: 2025-10-30 12:31:50 -0400 (Thu, 30 Oct 2025) EndedAt: 2025-10-30 12:35:06 -0400 (Thu, 30 Oct 2025) EllapsedTime: 196.0 seconds RetCode: 0 Status: OK PackageFile: DelayedMatrixStats_1.33.0.tar.gz PackageFileSize: 264.4 KiB