Package: BiocParallel Version: 1.45.0 Command: /home/rapidbuild/bbs-3.22-bioc-rapid/R/bin/R CMD INSTALL BiocParallel StartedAt: 2025-10-30 12:16:54 -0400 (Thu, 30 Oct 2025) EndedAt: 2025-10-30 12:17:05 -0400 (Thu, 30 Oct 2025) EllapsedTime: 11.0 seconds RetCode: 0 Status: OK