############################################################################## ############################################################################## ### ### Running command: ### ### /home/rapidbuild/bbs-3.22-bioc-rapid/R/bin/R CMD build --keep-empty-dirs --no-resave-data AnnotationHubData ### ############################################################################## ############################################################################## * checking for file ‘AnnotationHubData/DESCRIPTION’ ... OK * preparing ‘AnnotationHubData’: * checking DESCRIPTION meta-information ... OK * installing the package to build vignettes ----------------------------------- ERROR: dependencies ‘AnnotationHub’, ‘GenomicFeatures’, ‘rtracklayer’, ‘OrganismDbi’ are not available for package ‘AnnotationHubData’ Perhaps try a variation of: install.packages(c('AnnotationHub', 'GenomicFeatures', 'rtracklayer', 'OrganismDbi')) * removing ‘/tmp/RtmpNdqoEM/Rinst1ec3b56662259f/AnnotationHubData’ ----------------------------------- ERROR: package installation failed