Package: AnnotationForge Version: 1.53.0 Command: /home/rapidbuild/bbs-3.22-bioc-rapid/R/bin/R CMD build --keep-empty-dirs --no-resave-data AnnotationForge StartedAt: 2025-10-30 12:25:29 -0400 (Thu, 30 Oct 2025) EndedAt: 2025-10-30 12:27:22 -0400 (Thu, 30 Oct 2025) EllapsedTime: 113.7 seconds RetCode: 1 Status: ERROR PackageFile: None PackageFileSize: NA