Package: AnnotationDbi Version: 1.73.0 Command: /home/rapidbuild/bbs-3.22-bioc-rapid/R/bin/R CMD INSTALL AnnotationDbi StartedAt: 2025-10-30 12:13:13 -0400 (Thu, 30 Oct 2025) EndedAt: 2025-10-30 12:13:27 -0400 (Thu, 30 Oct 2025) EllapsedTime: 13.7 seconds RetCode: 0 Status: OK