Package: AnnotationDbi Version: 1.73.0 Command: /home/rapidbuild/bbs-3.22-bioc-rapid/R/bin/R CMD build --keep-empty-dirs --no-resave-data AnnotationDbi StartedAt: 2025-10-30 12:25:26 -0400 (Thu, 30 Oct 2025) EndedAt: 2025-10-30 12:25:57 -0400 (Thu, 30 Oct 2025) EllapsedTime: 30.5 seconds RetCode: 1 Status: ERROR PackageFile: None PackageFileSize: NA