Package: xcms Version: 4.8.0 Command: /home/biocbuild/bbs-3.22-bioc/R/bin/R CMD check --test-dir=longtests --no-stop-on-test-error --no-codoc --no-examples --no-manual --ignore-vignettes --check-subdirs=no xcms_4.8.0.tar.gz StartedAt: 2025-11-22 16:24:05 -0500 (Sat, 22 Nov 2025) EndedAt: 2025-11-22 16:30:52 -0500 (Sat, 22 Nov 2025) EllapsedTime: 407.0 seconds RetCode: 1 Status: ERROR CheckDir: xcms.Rcheck Warnings: NA