Package: xcms Version: 4.7.3 Command: /Library/Frameworks/R.framework/Resources/bin/R CMD check --test-dir=longtests --no-stop-on-test-error --no-codoc --no-examples --no-manual --ignore-vignettes --check-subdirs=no xcms_4.7.3.tar.gz StartedAt: 2025-10-25 16:11:16 -0400 (Sat, 25 Oct 2025) EndedAt: 2025-10-25 16:16:58 -0400 (Sat, 25 Oct 2025) EllapsedTime: 342.3 seconds RetCode: 1 Status: ERROR CheckDir: xcms.Rcheck Warnings: NA