Package: rhdf5 Version: 2.54.0 Command: /home/biocbuild/bbs-3.22-bioc/R/bin/R CMD check --test-dir=longtests --no-stop-on-test-error --no-codoc --no-examples --no-manual --ignore-vignettes --check-subdirs=no rhdf5_2.54.0.tar.gz StartedAt: 2025-11-22 16:21:50 -0500 (Sat, 22 Nov 2025) EndedAt: 2025-11-22 16:23:32 -0500 (Sat, 22 Nov 2025) EllapsedTime: 102.0 seconds RetCode: 0 Status: WARNINGS CheckDir: rhdf5.Rcheck Warnings: 1