Package: ginmappeR Version: 1.6.0 Command: /home/biocbuild/bbs-3.22-bioc/R/bin/R CMD check --test-dir=longtests --no-stop-on-test-error --no-codoc --no-examples --no-manual --ignore-vignettes --check-subdirs=no ginmappeR_1.6.0.tar.gz StartedAt: 2025-11-22 16:18:28 -0500 (Sat, 22 Nov 2025) EndedAt: 2025-11-22 16:21:43 -0500 (Sat, 22 Nov 2025) EllapsedTime: 195.1 seconds RetCode: 1 Status: ERROR CheckDir: ginmappeR.Rcheck Warnings: NA