Package: extraChIPs Version: 1.14.1 Command: /home/biocbuild/bbs-3.22-bioc/R/bin/R CMD check --test-dir=longtests --no-stop-on-test-error --no-codoc --no-examples --no-manual --ignore-vignettes --check-subdirs=no extraChIPs_1.14.1.tar.gz StartedAt: 2025-11-22 16:16:49 -0500 (Sat, 22 Nov 2025) EndedAt: 2025-11-22 16:21:37 -0500 (Sat, 22 Nov 2025) EllapsedTime: 288.1 seconds RetCode: 0 Status: OK CheckDir: extraChIPs.Rcheck Warnings: 0