Package: extraChIPs Version: 1.12.2 Maintainer: Stevie Pederson MaintainerEmail: stephen.pederson.au at gmail.com git_url: https://git.bioconductor.org/packages/extraChIPs git_branch: RELEASE_3_21 git_last_commit: 7c43e01 git_last_commit_date: 2025-10-10 23:47:34 -0400 (Fri, 10 Oct 2025)