Package: crisprScore Version: 1.12.0 Maintainer: Jean-Philippe Fortin MaintainerEmail: fortin946 at gmail.com git_url: https://git.bioconductor.org/packages/crisprScore git_branch: RELEASE_3_21 git_last_commit: d0373b5 git_last_commit_date: 2025-04-15 12:44:21 -0400 (Tue, 15 Apr 2025)