Package: cBioPortalData Version: 2.22.1 Command: /home/biocbuild/bbs-3.22-bioc/R/bin/R CMD check --test-dir=longtests --no-stop-on-test-error --no-codoc --no-examples --no-manual --ignore-vignettes --check-subdirs=no cBioPortalData_2.22.1.tar.gz StartedAt: 2025-11-22 16:03:02 -0500 (Sat, 22 Nov 2025) EndedAt: 2025-11-22 20:16:33 -0500 (Sat, 22 Nov 2025) EllapsedTime: 15210.5 seconds RetCode: 1 Status: ERROR CheckDir: cBioPortalData.Rcheck Warnings: NA