Back to Long Tests report for BioC 3.22

This page was generated on 2025-11-22 23:55 -0500 (Sat, 22 Nov 2025).

HostnameOSArch (*)R versionInstalled pkgs
nebbiolo2Linux (Ubuntu 24.04.3 LTS)x86_644.5.2 (2025-10-31) -- "[Not] Part in a Rumble" 4873
merida1macOS 12.7.6 Montereyx86_644.5.2 Patched (2025-11-05 r88990) -- "[Not] Part in a Rumble" 4654
Click on any hostname to see more info about the system (e.g. compilers)      (*) as reported by 'uname -p', except on Windows and Mac OS X

All results for package cBioPortalData


To the developers/maintainers of the cBioPortalData package:
- Use the following Renviron settings to reproduce errors and warnings.
- If 'R CMD check' started to fail recently on the Linux builder(s) over a missing dependency, add the missing dependency to 'Suggests:' in your DESCRIPTION file. See Renviron.bioc for more information.

raw results

Package 10/31HostnameOS / ArchCHECK
cBioPortalData 2.22.1  (landing page)
Marcel Ramos
Snapshot Date: 2025-11-22 09:55 -0500 (Sat, 22 Nov 2025)
git_url: https://git.bioconductor.org/packages/cBioPortalData
git_branch: RELEASE_3_22
git_last_commit: 567daa3
git_last_commit_date: 2025-11-07 13:29:26 -0500 (Fri, 07 Nov 2025)
nebbiolo2Linux (Ubuntu 24.04.3 LTS) / x86_64  ERROR  
merida1macOS 12.7.6 Monterey / x86_64  ERROR