Package: basilisk Version: 1.20.0 Command: /Library/Frameworks/R.framework/Resources/bin/R CMD check --test-dir=longtests --no-stop-on-test-error --no-codoc --no-examples --no-manual --ignore-vignettes --check-subdirs=no basilisk_1.20.0.tar.gz StartedAt: 2025-10-11 16:01:14 -0400 (Sat, 11 Oct 2025) EndedAt: 2025-10-11 16:02:50 -0400 (Sat, 11 Oct 2025) EllapsedTime: 95.9 seconds RetCode: 0 Status: OK CheckDir: basilisk.Rcheck Warnings: 0