Package: SimBu Version: 1.12.0 Command: /home/biocbuild/bbs-3.22-bioc/R/bin/R CMD check --test-dir=longtests --no-stop-on-test-error --no-codoc --no-examples --no-manual --ignore-vignettes --check-subdirs=no SimBu_1.12.0.tar.gz StartedAt: 2025-11-22 16:23:31 -0500 (Sat, 22 Nov 2025) EndedAt: 2025-11-22 16:24:05 -0500 (Sat, 22 Nov 2025) EllapsedTime: 34.0 seconds RetCode: 1 Status: ERROR CheckDir: SimBu.Rcheck Warnings: NA