Package: HDF5Array Version: 1.38.0 Command: /home/biocbuild/bbs-3.22-bioc/R/bin/R CMD check --test-dir=longtests --no-stop-on-test-error --no-codoc --no-examples --no-manual --ignore-vignettes --check-subdirs=no HDF5Array_1.38.0.tar.gz StartedAt: 2025-11-01 16:18:37 -0400 (Sat, 01 Nov 2025) EndedAt: 2025-11-01 16:32:08 -0400 (Sat, 01 Nov 2025) EllapsedTime: 811.2 seconds RetCode: 0 Status: OK CheckDir: HDF5Array.Rcheck Warnings: 0