Package: DropletUtils Version: 1.30.0 Command: /home/biocbuild/bbs-3.22-bioc/R/bin/R CMD check --test-dir=longtests --no-stop-on-test-error --no-codoc --no-examples --no-manual --ignore-vignettes --check-subdirs=no DropletUtils_1.30.0.tar.gz StartedAt: 2025-11-22 16:09:31 -0500 (Sat, 22 Nov 2025) EndedAt: 2025-11-22 16:19:24 -0500 (Sat, 22 Nov 2025) EllapsedTime: 593.1 seconds RetCode: 0 Status: OK CheckDir: DropletUtils.Rcheck Warnings: 0