Package: DOtools Version: 1.0.0 Command: /home/biocbuild/bbs-3.22-bioc/R/bin/R CMD check --test-dir=longtests --no-stop-on-test-error --no-codoc --no-examples --no-manual --ignore-vignettes --check-subdirs=no DOtools_1.0.0.tar.gz StartedAt: 2025-11-22 16:08:10 -0500 (Sat, 22 Nov 2025) EndedAt: 2025-11-22 16:16:49 -0500 (Sat, 22 Nov 2025) EllapsedTime: 519.1 seconds RetCode: 1 Status: ERROR CheckDir: DOtools.Rcheck Warnings: NA