Package: ChromSCape Version: 1.20.0 Command: /home/biocbuild/bbs-3.22-bioc/R/bin/R CMD check --test-dir=longtests --no-stop-on-test-error --no-codoc --no-examples --no-manual --ignore-vignettes --check-subdirs=no ChromSCape_1.20.0.tar.gz StartedAt: 2025-11-22 16:03:17 -0500 (Sat, 22 Nov 2025) EndedAt: 2025-11-22 16:09:31 -0500 (Sat, 22 Nov 2025) EllapsedTime: 374.2 seconds RetCode: 1 Status: ERROR CheckDir: ChromSCape.Rcheck Warnings: NA