Package: CTexploreR Version: 1.6.0 Maintainer: Axelle Loriot MaintainerEmail: axelle.loriot at uclouvain.be git_url: https://git.bioconductor.org/packages/CTexploreR git_branch: RELEASE_3_22 git_last_commit: c66423d git_last_commit_date: 2025-10-29 11:26:51 -0500 (Wed, 29 Oct 2025)